BEGIN:VCALENDAR
VERSION:2.0
PRODID:-//Westminster Presbyterian Church - ECPv6.11.2//NONSGML v1.0//EN
CALSCALE:GREGORIAN
METHOD:PUBLISH
X-ORIGINAL-URL:https://westminster-church.org
X-WR-CALDESC:Events for Westminster Presbyterian Church
REFRESH-INTERVAL;VALUE=DURATION:PT1H
X-Robots-Tag:noindex
X-PUBLISHED-TTL:PT1H
BEGIN:VTIMEZONE
TZID:America/New_York
BEGIN:DAYLIGHT
TZOFFSETFROM:-0500
TZOFFSETTO:-0400
TZNAME:EDT
DTSTART:20250309T070000
END:DAYLIGHT
BEGIN:STANDARD
TZOFFSETFROM:-0400
TZOFFSETTO:-0500
TZNAME:EST
DTSTART:20251102T060000
END:STANDARD
BEGIN:DAYLIGHT
TZOFFSETFROM:-0500
TZOFFSETTO:-0400
TZNAME:EDT
DTSTART:20260308T070000
END:DAYLIGHT
BEGIN:STANDARD
TZOFFSETFROM:-0400
TZOFFSETTO:-0500
TZNAME:EST
DTSTART:20261101T060000
END:STANDARD
END:VTIMEZONE
BEGIN:VEVENT
DTSTART;TZID=America/New_York:20260218T173000
DTEND;TZID=America/New_York:20260218T193000
DTSTAMP:20260424T170403
CREATED:20260211T163934Z
LAST-MODIFIED:20260211T170954Z
UID:10000251-1771435800-1771443000@westminster-church.org
SUMMARY:Ash Wednesday
DESCRIPTION:The good news is…all are invited.\n \nIntergenerational Prayer Stations at 5:30 p.m. in the WROC\nWorship with the Imposition of Ashes at 6:30 p.m. in the Sanctuary
URL:https://westminster-church.org/event/ash-wednesday/
LOCATION:Sanctuary
CATEGORIES:Churchwide,Easter
ATTACH;FMTTYPE=image/jpeg:https://westminster-church.org/wp-content/uploads/2026/02/Lent-800x600-1.jpg
END:VEVENT
BEGIN:VEVENT
DTSTART;TZID=America/New_York:20251214T190000
DTEND;TZID=America/New_York:20251214T200000
DTSTAMP:20260424T170403
CREATED:20251124T171244Z
LAST-MODIFIED:20251124T172702Z
UID:10000238-1765738800-1765742400@westminster-church.org
SUMMARY:Westminster Annual Christmas Concert
DESCRIPTION:Westminster’s Annual Christmas Concert will be held on Sunday\, December 14\, 2025 at 7:00 pm. Featuring the Chancel\, Junior and Cherub Choirs as well as the Westminster Ringers\, the concert has popular carols for all ages. There are even sing-along carols for the congregation to participate! Bring your families and plan to have an enjoyable musical evening!
URL:https://westminster-church.org/event/westminster-annual-christmas-concert/
LOCATION:Sanctuary
CATEGORIES:Featured Events,Music & Arts
ATTACH;FMTTYPE=image/jpeg:https://westminster-church.org/wp-content/uploads/2025/11/christmas-concert-800x600-1.jpg
ORGANIZER;CN="Chris Hestwood":MAILTO:hestwood@westminster-church.org
END:VEVENT
BEGIN:VEVENT
DTSTART;TZID=America/New_York:20251210T183000
DTEND;TZID=America/New_York:20251210T193000
DTSTAMP:20260424T170403
CREATED:20251202T223142Z
LAST-MODIFIED:20251202T223143Z
UID:10000241-1765391400-1765395000@westminster-church.org
SUMMARY:A Quiet Christmas
DESCRIPTION:Our Quiet Christmas service will dial back the frenzy of the holidays. We will acknowledge the physical darkness outside and that pressure for all to be perfect amidst an elusive melancholy. In this service we will listen to readings\, sing our hopes\, rest in the warmth of candlelight\, feel the comforting presence of others\, and open ourselves to receive God’s gift of peace.
URL:https://westminster-church.org/event/a-quiet-christmas/
LOCATION:Sanctuary
CATEGORIES:Adult Ministry,Featured Events
ATTACH;FMTTYPE=image/jpeg:https://westminster-church.org/wp-content/uploads/2025/04/WPC_logo_FINAL_HZ.jpg
END:VEVENT
BEGIN:VEVENT
DTSTART;TZID=America/New_York:20251109T110000
DTEND;TZID=America/New_York:20251109T120000
DTSTAMP:20260424T170403
CREATED:20251021T183924Z
LAST-MODIFIED:20251030T190629Z
UID:10000197-1762686000-1762689600@westminster-church.org
SUMMARY:Vivaldi's Gloria
DESCRIPTION:The Westminster Chancel Choir and Soloists\, directed by Christine Hestwood\, will present Vivaldi’s Gloria in concert with the Academy Chamber Orchestra\, and Jim Burns on harpsichord. This concert will occur during the 11:00 service on Sunday\, November 9\, 2025.
URL:https://westminster-church.org/event/vivaldi-gloria/
LOCATION:Sanctuary
CATEGORIES:Featured Events,Music & Arts
ATTACH;FMTTYPE=image/jpeg:https://westminster-church.org/wp-content/uploads/2025/10/choir-800x600-1.jpg
ORGANIZER;CN="Chris Hestwood":MAILTO:hestwood@westminster-church.org
END:VEVENT
BEGIN:VEVENT
DTSTART;TZID=America/New_York:20251108T090000
DTEND;TZID=America/New_York:20251108T230000
DTSTAMP:20260424T170403
CREATED:20250922T181818Z
LAST-MODIFIED:20251002T140516Z
UID:10000192-1762592400-1762642800@westminster-church.org
SUMMARY:Volunteer Training: Emergency Response
DESCRIPTION:Safety and security are of the utmost importance at Westminster and to help prepare us for a variety of situations\, we will be hosting a Volunteer Training. Ushers\, receptionists\, and any other volunteer is welcome to come and hear an active shooter presentation from the USC police\, followed by some refreshments and time for discussion. Please RSVP on Realm or to Emily Shubilla at shubilla@westminster-church.org by Wednesday\, November 5. RSVP here
URL:https://westminster-church.org/event/volunteer-training-emergency-response/
LOCATION:Sanctuary
CATEGORIES:Community Engagement,Featured Events,Volunteers
ATTACH;FMTTYPE=image/jpeg:https://westminster-church.org/wp-content/uploads/2025/09/USC-Police-Station.jpg
ORGANIZER;CN="Emily Shubilla":MAILTO:shubilla@westminster-church.org
END:VEVENT
BEGIN:VEVENT
DTSTART;TZID=America/New_York:20250619T170000
DTEND;TZID=America/New_York:20250619T173000
DTSTAMP:20260424T170403
CREATED:20250508T144157Z
LAST-MODIFIED:20250508T150846Z
UID:10000105-1750352400-1750354200@westminster-church.org
SUMMARY:Westminster Organ Summer 2025
DESCRIPTION:Thirty Minutes of Exceptional Organ Music\nPlan now to take a refreshing musical break on six Thursday afternoons at five o’clock. \nWestminster Organ Summer returns for its 15th season. Enjoy the free 30-minute concerts in the cool\, calm space of Westminster’s sanctuary. The concerts are friendly for all ages and informal\, so come as you are. \nOrgan Summer offers the community a unique chance to hear an appealing variety of sacred and secular organ music during the Upper St. Clair Farmers’ Market in the church’s south parking lot. It’s a winning combination of great music and fresh food. \nThe six organists\, all from Pittsburgh churches\, will each demonstrate the beauty of the magnificent Austin organ in a distinctive and memorable way. \nOrgan Summer is a musical outreach to the community sponsored by Music & Arts at Westminster Presbyterian Church and the generosity of the performers. All organists donate their time and talent. A freewill offering defrays their expenses. Checks are welcome\, payable to Westminster Presbyterian Church\, with Music & Arts/Organ Summer on the memo line. Contribute online using the donate button on the event page for Organ Summer. \n\n\n\n\nJune 19\nDaniel Kovacic\nResurrection Parish\n\n\nJune 26\nDouglas Jayd-Burn\nSt. Paul’s Episcopal Church\n\n\nJuly 3\nEthan LaPlaca\nShadyside Presbyterian Church\n\n\nJuly 10\nEdward Alan Moore\nEast Liberty Presbyterian Church\n\n\nJuly 17\nJon Tyillian\nCalvary Episcopal Church\n\n\nJuly 24\nBryan Sable\nCoraopolis United Methodist Church
URL:https://westminster-church.org/event/westminster-organ-summer-2025/
LOCATION:Sanctuary
CATEGORIES:Featured Events,Music & Arts
ATTACH;FMTTYPE=image/jpeg:https://westminster-church.org/wp-content/uploads/2025/05/organsummer_logo_800w-e1746715265226.jpg
END:VEVENT
BEGIN:VEVENT
DTSTART;TZID=America/New_York:20250608T100000
DTEND;TZID=America/New_York:20250608T230000
DTSTAMP:20260424T170403
CREATED:20250507T164129Z
LAST-MODIFIED:20250508T123015Z
UID:10000102-1749376800-1749423600@westminster-church.org
SUMMARY:One Service Sunday and Lunch
DESCRIPTION:Join us for an intergenerational worship service celebrating Pentecost. The service will blend both traditional and contemporary styles. After worship\, join our church family for lunch in Fellowship Hall at 11:00. \n \n \nRevised schedule for Sunday\, June 8\nThere will be no Sunday school. \n\n\n\n8:45 a.m.\nWestminster Seminars\nGalbreath Chapel\n\n\n10:00 a.m.\nWorship Service\nSanctuary and via Livestream\n\n \n\n\nWiggle Room\nRoom 239\n\n\n11:00 a.m.\nLunch\nFellowship Hall
URL:https://westminster-church.org/event/one-service-sunday-and-lunch/
LOCATION:Sanctuary
CATEGORIES:Featured Events,Worship
ATTACH;FMTTYPE=image/png:https://westminster-church.org/wp-content/uploads/2025/05/One-Service-Sunday_800x600.png
END:VEVENT
BEGIN:VEVENT
DTSTART;TZID=America/New_York:20250516T193000
DTEND;TZID=America/New_York:20250516T210000
DTSTAMP:20260424T170403
CREATED:20250422T122300Z
LAST-MODIFIED:20250513T151855Z
UID:10000096-1747423800-1747429200@westminster-church.org
SUMMARY:Nothing Sacred Concert
DESCRIPTION:Nothing Sacred is an evening of music featuring the Bell\, Chancel and Junior Choirs\, and fun songs you won’t hear in worship! You will hear some Broadway\, opera tunes\, swing numbers\, and even some Taylor Swift! Bring your families! Free will donations are welcome in the Narthex.
URL:https://westminster-church.org/event/nothing-sacred-concert/
LOCATION:Sanctuary
CATEGORIES:Featured Events,Music & Arts
ATTACH;FMTTYPE=image/jpeg:https://westminster-church.org/wp-content/uploads/2025/04/NothingSacred.jpg
ORGANIZER;CN="Chris Hestwood":MAILTO:hestwood@westminster-church.org
END:VEVENT
BEGIN:VEVENT
DTSTART;TZID=America/New_York:20250511T143000
DTEND;TZID=America/New_York:20250511T160000
DTSTAMP:20260424T170403
CREATED:20250422T132244Z
LAST-MODIFIED:20250422T160047Z
UID:10000097-1746973800-1746979200@westminster-church.org
SUMMARY:Westminster Music & Arts Presents Chatham Baroque
DESCRIPTION:The Art of the Trio — Songs without words from the Italian Baroque \nAndrew Fouts violin\nPatricia Halverson viola da gamba\nScott Pauley theorbo & baroque guitar \nBaroque Italy was the birthplace of the instrumental sonata. Germinated from a bold new style of music established at the start of the 17th century\, where harmony serves the affections of melody\, the sonata developed to showcase instrumental virtuosity and expressivity; the power of music to move the listener even without words.    \nThrough the works of Castello\, Fontana\, Marini\, Pandolfi\, Matteis\, Corelli\, and others\, Chatham Baroque delves into the vast and varied treasures of Italian Baroque music throughout the 17th and early 18th centuries.     \nSuggested donation: General $25\, Senior (65+) $20\, and Student (with valid ID) $10 \n \nTICKETS
URL:https://westminster-church.org/event/westminster-music-arts-presents-chatham-baroque/
LOCATION:Sanctuary
CATEGORIES:Featured Events,Music & Arts
ATTACH;FMTTYPE=image/jpeg:https://westminster-church.org/wp-content/uploads/2025/04/50-ChathamBaroque409050-copy-scaled-1.jpg
END:VEVENT
BEGIN:VEVENT
DTSTART;TZID=America/New_York:20250504T093000
DTEND;TZID=America/New_York:20250504T130000
DTSTAMP:20260424T170403
CREATED:20250428T123017Z
LAST-MODIFIED:20250428T123018Z
UID:10000089-1746351000-1746363600@westminster-church.org
SUMMARY:Listening Sessions with Members of PNC
DESCRIPTION:The PNC (Pastor Nominating Committee) wants to hear from you! Please join us for one of these listening sessions: \nSunday\, Sunday\, May 4\nFollowing the 8:30 and 11:00 worship services in the Sanctuary (Or via Zoom here following the 11:00 service)\nFollowing the 9:45 worship service in the WROC \nChildcare will be provided. \nRead more about the transition or contact a member of the PNC here: Pastoral Transition – Westminster Presbyterian Church
URL:https://westminster-church.org/event/listening-sessions-with-members-of-pnc-2/
LOCATION:Sanctuary
CATEGORIES:Churchwide,Featured Events
ATTACH;FMTTYPE=image/jpeg:https://westminster-church.org/wp-content/uploads/2025/04/WPC_logo_FINAL_HZ.jpg
ORGANIZER;CN="Dee Waters":MAILTO:deeannwaters25@gmail.com
END:VEVENT
BEGIN:VEVENT
DTSTART;TZID=America/New_York:20250427T093000
DTEND;TZID=America/New_York:20250427T130000
DTSTAMP:20260424T170403
CREATED:20250410T121338Z
LAST-MODIFIED:20250422T161232Z
UID:10000088-1745746200-1745758800@westminster-church.org
SUMMARY:Listening Sessions with Members of PNC
DESCRIPTION:The PNC (Pastor Nominating Committee) wants to hear from you! Please join us for one of these listening sessions: \nSunday\, April 27 or Sunday\, May 4\nFollowing the 8:30 and 11:00 worship services in the Sanctuary\nFollowing the 9:45 worship service in the WROC \nA Zoom link will be provided for the May 4 session that follows the 11:00 a.m. worship service. \nChildcare will be provided. \nRead more about the transition or contact a member of the PNC here: Pastoral Transition – Westminster Presbyterian Church
URL:https://westminster-church.org/event/listening-sessions-with-members-of-pnc/2025-04-27/
LOCATION:Sanctuary
CATEGORIES:Churchwide,Featured Events
ATTACH;FMTTYPE=image/jpeg:https://westminster-church.org/wp-content/uploads/2025/04/WPC_logo_FINAL_HZ.jpg
ORGANIZER;CN="Dee Waters":MAILTO:deeannwaters25@gmail.com
END:VEVENT
BEGIN:VEVENT
DTSTART;TZID=America/New_York:20250420T083000
DTEND;TZID=America/New_York:20250420T120000
DTSTAMP:20260424T170403
CREATED:20250315T200017Z
LAST-MODIFIED:20250414T150443Z
UID:10000063-1745137800-1745150400@westminster-church.org
SUMMARY:Easter Sunday Worship Services
DESCRIPTION:Celebrate Easter at Westminster\nJoin us in celebrating the resurrection of our Lord on Easter Sunday. \nTraditional Worship\n8:30 and 11:00 a.m.\nSanctuary and Livestream (11:00 a.m. only)\nView/download bulletin here. \nBridge Contemporary Worship\n9:45 a.m.\nWROC and Livestream \nSunday School for 4 yrs through 4th Grade\n9:45 – Children begin at the Bridge and are dismissed to their classrooms. \n\n4yrs-1st Grade in Room 176\n2nd-4th Grade in Room 284\n\n11:00 – Children report directly to Room 233.\nRead more and register here.
URL:https://westminster-church.org/event/easter-sunday-worship-services/
LOCATION:Sanctuary
CATEGORIES:Adult Ministry,Easter,Featured Events
ATTACH;FMTTYPE=image/jpeg:https://westminster-church.org/wp-content/uploads/2025/03/EVENT_cherry-blossoms.jpg
END:VEVENT
BEGIN:VEVENT
DTSTART;TZID=America/New_York:20250417T193000
DTEND;TZID=America/New_York:20250417T203000
DTSTAMP:20260424T170403
CREATED:20250328T170642Z
LAST-MODIFIED:20250416T163038Z
UID:10000084-1744918200-1744921800@westminster-church.org
SUMMARY:Maundy Thursday Worship
DESCRIPTION:Join us for worship to recall the passion of our Lord\, with music\, communion\, scripture\, and candlelight. The Lord’s Supper will be served with gluten-free communion wafers available. \nWatch via livestream here: https://www.youtube.com/live/KNIul4FUrkE?si=UdMwmmbvga98EnwQ \nDownload bulletin here: https://westminster-church.org/assets/pdfs/bulletins/2025/2025_MaundyThurs-bulletin-digital.pdf
URL:https://westminster-church.org/event/maundy-thursday-worship/
LOCATION:Sanctuary
CATEGORIES:Easter,Featured Events,Worship
ATTACH;FMTTYPE=image/jpeg:https://westminster-church.org/wp-content/uploads/2025/03/MaundyThursday.jpg
END:VEVENT
BEGIN:VEVENT
DTSTART;TZID=America/New_York:20250404T193000
DTEND;TZID=America/New_York:20250404T210000
DTSTAMP:20260424T170403
CREATED:20250318T153418Z
LAST-MODIFIED:20250414T150443Z
UID:10000079-1743795000-1743800400@westminster-church.org
SUMMARY:Pitt Men's Glee Club Concert
DESCRIPTION:Founded in 1890\, the Pitt Men’s Glee Club\, the oldest musical organization at the University of Pittsburgh\, will present a free concert as a kick-off to their upcoming Spring Concert Tour to Italy\, Austria and Slovenia. The concert will feature both sacred and secular works. Musical styles range from classical to barbershop\, to Doo Wop. The program will conclude with a set of songs by Pittsburgh’s musical legends Erroll Garner\, Billy Strayhorn\, Henry Mancini\, and Fred Rogers! \nFree concert with freewill offering.
URL:https://westminster-church.org/event/pitt-mens-glee-club-concert/
LOCATION:Sanctuary
CATEGORIES:Music & Arts
ATTACH;FMTTYPE=image/jpeg:https://westminster-church.org/wp-content/uploads/2025/03/PittMensGleeClubSpring2024-1.jpg
END:VEVENT
END:VCALENDAR