BEGIN:VCALENDAR
VERSION:2.0
PRODID:-//Westminster Presbyterian Church - ECPv6.11.2//NONSGML v1.0//EN
CALSCALE:GREGORIAN
METHOD:PUBLISH
X-WR-CALNAME:Westminster Presbyterian Church
X-ORIGINAL-URL:https://westminster-church.org
X-WR-CALDESC:Events for Westminster Presbyterian Church
REFRESH-INTERVAL;VALUE=DURATION:PT1H
X-Robots-Tag:noindex
X-PUBLISHED-TTL:PT1H
BEGIN:VTIMEZONE
TZID:America/New_York
BEGIN:DAYLIGHT
TZOFFSETFROM:-0500
TZOFFSETTO:-0400
TZNAME:EDT
DTSTART:20250309T070000
END:DAYLIGHT
BEGIN:STANDARD
TZOFFSETFROM:-0400
TZOFFSETTO:-0500
TZNAME:EST
DTSTART:20251102T060000
END:STANDARD
END:VTIMEZONE
BEGIN:VEVENT
DTSTART;TZID=America/New_York:20250903T090000
DTEND;TZID=America/New_York:20250903T100000
DTSTAMP:20260424T174158
CREATED:20250812T141204Z
LAST-MODIFIED:20250812T141204Z
UID:10000120-1756890000-1756893600@westminster-church.org
SUMMARY:Wednesday Morning Men’s Bible Study
DESCRIPTION:This group studies one book of the Bible at a time\, a few verses at a time. The goal is to get a better understanding of scripture and what it means to each of us. In a dedicated but relaxed setting\, we discuss our insights from the biblical passages that have been read in advance. We welcome and encourage questions and comments on the selected scripture passages. We invite you to join us for our weekly study each Wednesday at 9:00 AM in room 231.
URL:https://westminster-church.org/event/wednesday-morning-mens-bible-study/
LOCATION:Room 231
CATEGORIES:Adult Ministry,Featured Events
ATTACH;FMTTYPE=image/jpeg:https://westminster-church.org/wp-content/uploads/2025/08/bible-hands.jpg
ORGANIZER;CN="Chuck Wolfe":MAILTO:wolfe.chuck@gmail.com
END:VEVENT
BEGIN:VEVENT
DTSTART;TZID=America/New_York:20250406T110000
DTEND;TZID=America/New_York:20250406T120000
DTSTAMP:20260424T174158
CREATED:20250316T142655Z
LAST-MODIFIED:20250414T150443Z
UID:10000068-1743937200-1743940800@westminster-church.org
SUMMARY:Holy Dialogues: Lent
DESCRIPTION:Sundays through April 6 \nIn this study group we’ll dive into the key events of Holy Week and explore big themes like grace\, salvation\, the Gospels\, and the cross. Through open conversation and reflection\, we’ll make space for questions\, insights\, and new perspectives on Jesus’ journey and what it means for our faith today. Whether you’re deeply familiar with these stories or exploring them in a new way\, all are welcome to join the discussion! \nContact Faith Kemmler.
URL:https://westminster-church.org/event/holy-dialogues-lent/
LOCATION:Room 231
CATEGORIES:Adult Ministry,Featured Events
ATTACH;FMTTYPE=image/jpeg:https://westminster-church.org/wp-content/uploads/2025/03/EVENT_holy-dialoges.jpg
END:VEVENT
END:VCALENDAR