BEGIN:VCALENDAR
VERSION:2.0
PRODID:-//Westminster Presbyterian Church - ECPv6.11.2//NONSGML v1.0//EN
CALSCALE:GREGORIAN
METHOD:PUBLISH
X-ORIGINAL-URL:https://westminster-church.org
X-WR-CALDESC:Events for Westminster Presbyterian Church
REFRESH-INTERVAL;VALUE=DURATION:PT1H
X-Robots-Tag:noindex
X-PUBLISHED-TTL:PT1H
BEGIN:VTIMEZONE
TZID:America/New_York
BEGIN:DAYLIGHT
TZOFFSETFROM:-0500
TZOFFSETTO:-0400
TZNAME:EDT
DTSTART:20250309T070000
END:DAYLIGHT
BEGIN:STANDARD
TZOFFSETFROM:-0400
TZOFFSETTO:-0500
TZNAME:EST
DTSTART:20251102T060000
END:STANDARD
END:VTIMEZONE
BEGIN:VEVENT
DTSTART;TZID=America/New_York:20250717T180000
DTEND;TZID=America/New_York:20250717T200000
DTSTAMP:20260424T194545
CREATED:20250624T144718Z
LAST-MODIFIED:20250624T145415Z
UID:10000113-1752775200-1752782400@westminster-church.org
SUMMARY:Family Pool Party
DESCRIPTION:The whole church family is invited for fun in the sun at the Family Pool Party! Join us for swimming\, pizza\, refreshments\, and fellowship. All children and youth must be accompanied by an adult. Questions? Contact Faith Kemmler at kemmler@westminster-church.org. RSVP not required but will aid in planning: bit.ly/wpcpoolparty
URL:https://westminster-church.org/event/family-pool-party/
LOCATION:Montclair Pool\, 1220 Sherbrook Drive\, Upper Saint Clair\, Pennsylvania\, 15241
CATEGORIES:Children's & Family Ministry,Featured Events
ATTACH;FMTTYPE=image/jpeg:https://westminster-church.org/wp-content/uploads/2025/06/Family-Pool-Party800x600.jpg
ORGANIZER;CN="Faith Kemmler":MAILTO:kemmler@westminster-church.org
END:VEVENT
END:VCALENDAR