BEGIN:VCALENDAR
VERSION:2.0
PRODID:-//Westminster Presbyterian Church - ECPv6.11.2//NONSGML v1.0//EN
CALSCALE:GREGORIAN
METHOD:PUBLISH
X-WR-CALNAME:Westminster Presbyterian Church
X-ORIGINAL-URL:https://westminster-church.org
X-WR-CALDESC:Events for Westminster Presbyterian Church
REFRESH-INTERVAL;VALUE=DURATION:PT1H
X-Robots-Tag:noindex
X-PUBLISHED-TTL:PT1H
BEGIN:VTIMEZONE
TZID:America/New_York
BEGIN:DAYLIGHT
TZOFFSETFROM:-0500
TZOFFSETTO:-0400
TZNAME:EDT
DTSTART:20260308T070000
END:DAYLIGHT
BEGIN:STANDARD
TZOFFSETFROM:-0400
TZOFFSETTO:-0500
TZNAME:EST
DTSTART:20261101T060000
END:STANDARD
END:VTIMEZONE
BEGIN:VEVENT
DTSTART;TZID=America/New_York:20260426T030000
DTEND;TZID=America/New_York:20260426T170000
DTSTAMP:20260424T112626
CREATED:20260323T211236Z
LAST-MODIFIED:20260402T141414Z
UID:10000256-1777172400-1777222800@westminster-church.org
SUMMARY:Veritas Bingo Fundraiser
DESCRIPTION:Come on down and invite your friends to your favorite church bingo hall (Fellowship Hall) for what is sure to be a great night of bingo fun! All proceeds will go toward the Veritas youth summer mission trip. Cost per person is $20\, with a family max of $50. Contact Harrison Burgess with any questions. The youth thank you for your support! \nRegister Here \nIf you or a friend cannot make it\, but would still like to donate\, you can do so by visiting Give Now and or text WPCUSC to 73256 and select “Youth Mission Trip” from the fund dropdown menu.
URL:https://westminster-church.org/event/veritas-bingo-fundraiser/
LOCATION:Fellowship Hall
CATEGORIES:Featured Events,Youth Ministry
ATTACH;FMTTYPE=image/jpeg:https://westminster-church.org/wp-content/uploads/2026/03/Bingo-veritas-800x600-1.jpg
ORGANIZER;CN="Harrison Burgess":MAILTO:burgess@westminster-church.org
END:VEVENT
BEGIN:VEVENT
DTSTART;TZID=America/New_York:20260429T181500
DTEND;TZID=America/New_York:20260429T181500
DTSTAMP:20260424T112626
CREATED:20260106T161929Z
LAST-MODIFIED:20260413T190706Z
UID:10000245-1777486500-1777486500@westminster-church.org
SUMMARY:One Hit Wonders: Welcome Jason Freyer and Sarah Fetterman
DESCRIPTION:Come enjoy a pasta bar dinner on April 29 as we offer a Westminster Welcome to Jason Freyer and Sarah Fetterman! Hear their story\, ask questions\, and help us celebrate both a homecoming and a new beginning. All are invited to share in this joyful evening together.
URL:https://westminster-church.org/event/one-hit-wonders-2/
LOCATION:Fellowship Hall
CATEGORIES:Adult Ministry,Featured Events
ATTACH;FMTTYPE=image/jpeg:https://westminster-church.org/wp-content/uploads/2025/03/EVENT_one-hit-wonders.jpg
END:VEVENT
BEGIN:VEVENT
DTSTART;TZID=America/New_York:20260517T080000
DTEND;TZID=America/New_York:20260517T130000
DTSTAMP:20260424T112626
CREATED:20250328T131754Z
LAST-MODIFIED:20260414T160021Z
UID:10000083-1779004800-1779022800@westminster-church.org
SUMMARY:Deacons' Blood Drive
DESCRIPTION:Westminster Deacons are hosting a blood drive! \nPlease preregister for your appointment by using sponsor code UG0010171\, to secure a time slot. Registration is easily done by calling Vitalant at 877-258-4825 or online at www.vitalant.org. \nIn order to donate\, you must: \n• Be 18 years or older (17 with parental consent)\n• Weigh at least 110 lbs.\n• Not have donated within the last 56 days\n• Be in good health \nMedications such as insulin\, aspirin\, and high blood pressure treatments do not prevent you from donating. If you have any medical questions\, please call Vitalant at 877-258-4825. \nFor those planning to donate\, please remember to eat a good breakfast and drink plenty of non-caffeinated beverages. There will be snacks and goodies available for all donors! \nThe Westminster Deacons thank you in advance for your support of this worthy mission.
URL:https://westminster-church.org/event/deacons-blood-drive/
LOCATION:Fellowship Hall
CATEGORIES:Adult Ministry,Featured Events
ATTACH;FMTTYPE=image/jpeg:https://westminster-church.org/wp-content/uploads/2025/03/istock_29453646_xxlarge.jpg
END:VEVENT
END:VCALENDAR