BEGIN:VCALENDAR
VERSION:2.0
PRODID:-//Westminster Presbyterian Church - ECPv6.11.2//NONSGML v1.0//EN
CALSCALE:GREGORIAN
METHOD:PUBLISH
X-WR-CALNAME:Westminster Presbyterian Church
X-ORIGINAL-URL:https://westminster-church.org
X-WR-CALDESC:Events for Westminster Presbyterian Church
REFRESH-INTERVAL;VALUE=DURATION:PT1H
X-Robots-Tag:noindex
X-PUBLISHED-TTL:PT1H
BEGIN:VTIMEZONE
TZID:America/New_York
BEGIN:DAYLIGHT
TZOFFSETFROM:-0500
TZOFFSETTO:-0400
TZNAME:EDT
DTSTART:20250309T070000
END:DAYLIGHT
BEGIN:STANDARD
TZOFFSETFROM:-0400
TZOFFSETTO:-0500
TZNAME:EST
DTSTART:20251102T060000
END:STANDARD
END:VTIMEZONE
BEGIN:VEVENT
DTSTART;TZID=America/New_York:20251102T083000
DTEND;TZID=America/New_York:20251130T120000
DTSTAMP:20260424T171632
CREATED:20251028T200322Z
LAST-MODIFIED:20251028T200323Z
UID:10000200-1762072200-1764504000@westminster-church.org
SUMMARY:Communion Servers Needed
DESCRIPTION:Attention all ordained Elders and Deacons: We are in need of communion servers to help on the first Sunday of each month. You do not need to be actively serving on Session or the Board of Deacons. Your ordination is lifelong. Sharing the bread and cup is a joyful way to participate in Christ’s welcome and grace. And if you’re new to serving communion\, we’ll show you how! \nNeeded for first Sundays\, all worship services. \nPlease contact Laura Bentley at bentley@westminster-church.org.
URL:https://westminster-church.org/event/communion-servers-needed/
LOCATION:All Worship Services
CATEGORIES:Featured Events,Worship
ATTACH;FMTTYPE=image/jpeg:https://westminster-church.org/wp-content/uploads/2025/04/Extended-Communion.jpg
END:VEVENT
BEGIN:VEVENT
DTSTART;TZID=America/New_York:20251005T083000
DTEND;TZID=America/New_York:20251005T130000
DTSTAMP:20260424T171632
CREATED:20250916T172845Z
LAST-MODIFIED:20250917T151742Z
UID:10000129-1759653000-1759669200@westminster-church.org
SUMMARY:3rd & 7th Grade Bible Presentation & Workshops
DESCRIPTION:On Sunday\, October 5\, children and youth in 3rd and 7th grade will be presented with Bibles during worship. In addition\, children in 3rd and 4th grade are invited to attend Kids’ Connection on Wednesday evenings in October to learn all about their new Bibles. \nIf you wish for your child to receive a Bible\, please register them here: https://onrealm.org/WestminsterChurchUSC/PublicRegistrations/Event?linkString=OTg2NzAxMTItMjQxMy00YjAzLTlkZDctYjM1YTAxMmE3YWY4 \nThe deadline to register for participation in Bible Sunday on October 5th is Wednesday\, October 1. If you miss this deadline and still want a Bible\, please let us know! \nAnyone who has not received a Bible is welcome to register for one regardless of grade. \nQuestions\, contact Faith Kemmler or Laura Ecklin. \n\nBible Sunday: October 5\nWorkshops: Wednesdays in October from 6:00-7:30 p.m.
URL:https://westminster-church.org/event/bible-sunday-3rd-grade-bible-presentation-workshops/
LOCATION:All Worship Services
CATEGORIES:Children's & Family Ministry,Featured Events
ATTACH;FMTTYPE=image/jpeg:https://westminster-church.org/wp-content/uploads/2025/09/PXL_20241009_230413743-scaled-e1759339720519.jpg
ORGANIZER;CN="Faith Kemmler":MAILTO:kemmler@westminster-church.org
END:VEVENT
END:VCALENDAR