BEGIN:VCALENDAR
VERSION:2.0
PRODID:-//Westminster Presbyterian Church - ECPv6.11.2//NONSGML v1.0//EN
CALSCALE:GREGORIAN
METHOD:PUBLISH
X-ORIGINAL-URL:https://westminster-church.org
X-WR-CALDESC:Events for Westminster Presbyterian Church
REFRESH-INTERVAL;VALUE=DURATION:PT1H
X-Robots-Tag:noindex
X-PUBLISHED-TTL:PT1H
BEGIN:VTIMEZONE
TZID:America/New_York
BEGIN:DAYLIGHT
TZOFFSETFROM:-0500
TZOFFSETTO:-0400
TZNAME:EDT
DTSTART:20250309T070000
END:DAYLIGHT
BEGIN:STANDARD
TZOFFSETFROM:-0400
TZOFFSETTO:-0500
TZNAME:EST
DTSTART:20251102T060000
END:STANDARD
BEGIN:DAYLIGHT
TZOFFSETFROM:-0500
TZOFFSETTO:-0400
TZNAME:EDT
DTSTART:20260308T070000
END:DAYLIGHT
BEGIN:STANDARD
TZOFFSETFROM:-0400
TZOFFSETTO:-0500
TZNAME:EST
DTSTART:20261101T060000
END:STANDARD
END:VTIMEZONE
BEGIN:VEVENT
DTSTART;VALUE=DATE:20260410
DTEND;VALUE=DATE:20260413
DTSTAMP:20260424T171715
CREATED:20250316T144649Z
LAST-MODIFIED:20260224T202411Z
UID:10000070-1775779200-1776038399@westminster-church.org
SUMMARY:Veritas: Registration for Splash Lagoon
DESCRIPTION:Friday\, April 10-Sunday\, April 12\nCost: $125 per student\nDepart at 5:30 p.m. on Friday\, return Sunday at noon \nDo you like Veritas and water slides? Come with us this spring for an opportunity to share in fellowship and explore your faith while sitting in a lazy river. This retreat is for students in 7th-12th grade. Cost is $125 for the weekend and includes lodging\, park ticket\, breakfast Sat/Sun\, and dinner Saturday. Students will be on their own to pay for dinner Friday night and lunch Saturday in the park. Register by April 1. \nContact Laura Ecklin with questions. \nVeritas registration is required in conjunction with event registration. If you are not sure if you have registered for Veritas or if your information needs to be updated\, please contact Laura. \nRegister here!
URL:https://westminster-church.org/event/veritas-registration-for-splash-lagoon/
LOCATION:Splash Lagoon
CATEGORIES:Featured Events,Youth Ministry
ATTACH;FMTTYPE=image/jpeg:https://westminster-church.org/wp-content/uploads/2025/03/EVENT_splash-lagoon.jpg
ORGANIZER;CN="Laura Ecklin":MAILTO:ecklin@westminster-church.org
END:VEVENT
BEGIN:VEVENT
DTSTART;VALUE=DATE:20251205
DTEND;VALUE=DATE:20251208
DTSTAMP:20260424T171715
CREATED:20251030T153644Z
LAST-MODIFIED:20251030T165416Z
UID:10000202-1764892800-1765151999@westminster-church.org
SUMMARY:Veritas Winter Retreat 2025
DESCRIPTION:Veritas will join other youth groups from the Pittsburgh area at Crestfield Camp & Conference Center for a weekend retreat. This retreat is open to students in 7th-12th grade. Registration closes on Monday\, November 10th. Contact Harrison Burgess with questions. \nRegistration Link: https://onrealm.org/WestminsterChurchUSC/PublicRegistrations/Event?linkString=ZjUwY2MzNjMtYmFmNC00ZjQwLWI1NGEtYjM3YTAwMmI3MGYy
URL:https://westminster-church.org/event/veritas-winter-retreat-2025/
LOCATION:Crestfield Camp & Conference Center\, 195 Taggert Road\, Slippery Rock\, PA\, 16057\, United States
CATEGORIES:Featured Events,Youth Ministry
ATTACH;FMTTYPE=image/jpeg:https://westminster-church.org/wp-content/uploads/2025/10/winter-retreat-800x600-1.jpg
ORGANIZER;CN="Harrison Burgess":MAILTO:burgess@westminster-church.org
END:VEVENT
BEGIN:VEVENT
DTSTART;TZID=America/New_York:20251114T180000
DTEND;TZID=America/New_York:20251114T200000
DTSTAMP:20260424T171715
CREATED:20251021T194400Z
LAST-MODIFIED:20251021T194401Z
UID:10000198-1763143200-1763150400@westminster-church.org
SUMMARY:Veritas - Granny Bingo
DESCRIPTION:Grab your best granny outfit and head down to the hall at your local church to play bingo with your friends! Pizza will be served and prizes will be won. \nPlease register online so we can do accurate pizza math by November 10th. https://onrealm.org/WestminsterChurchUSC/PublicRegistrations/Event?linkString=YThlZDRiODctNDBkMy00MDBjLThlOTEtYjM3YzAxMTRiYTZm
URL:https://westminster-church.org/event/veritas-granny-bingo/
LOCATION:Fellowship Hall
CATEGORIES:Featured Events,Youth Ministry
ATTACH;FMTTYPE=image/jpeg:https://westminster-church.org/wp-content/uploads/2025/10/granny-bingo-800x600-1.jpg
ORGANIZER;CN="Laura Ecklin":MAILTO:ecklin@westminster-church.org
END:VEVENT
BEGIN:VEVENT
DTSTART;VALUE=DATE:20251006
DTEND;VALUE=DATE:20251113
DTSTAMP:20260424T171715
CREATED:20251006T171603Z
LAST-MODIFIED:20251007T163017Z
UID:10000194-1759708800-1762991999@westminster-church.org
SUMMARY:Veritas Thanksgiving Food Drive
DESCRIPTION:Veritas is going out into the community to collect food donations for SHIM’s food pantry. This time of year generates the greatest need and SHIM relies on us to help fill the shelves and feed families for the holiday season.  \nEvery year\, Veritas collects food ‘competition style’ and consistently collects thousands of items every time.\nStudents will go to local neighborhoods and distribute informational fliers on Wednesday\, November 5 and then pick up donations on November 12.  \nIf you would like to support SHIM and the youth\, please drop off donations to the church office before November 12 or donate at the link below. \nhttps://onrealm.org/WestminsterChurchUSC/give/SHIM \nBy text message: Text WPCUSC SHIM to 73256
URL:https://westminster-church.org/event/veritas-thanksgiving-food-drive/
LOCATION:Room 283 – Youth Classroom
CATEGORIES:Churchwide,Featured Events,Youth Ministry
ATTACH;FMTTYPE=image/jpeg:https://westminster-church.org/wp-content/uploads/2025/10/thanksgiving-veritas-800x600-1.jpg
ORGANIZER;CN="Laura Ecklin":MAILTO:ecklin@westminster-church.org
END:VEVENT
BEGIN:VEVENT
DTSTART;VALUE=DATE:20250701
DTEND;VALUE=DATE:20250702
DTSTAMP:20260424T171715
CREATED:20250430T142106Z
LAST-MODIFIED:20250430T142144Z
UID:10000100-1751328000-1751414399@westminster-church.org
SUMMARY:Charlie Registration - Youth Ministry Summer Week of Fun
DESCRIPTION:Charlie (randomly named by the youth) is a few days of straight FUN! Each day looks a little different. You can come to one day or come to all – whatever works! This trip is available to kids who have completed sixth grade – graduated high school seniors. \nCost: $120 for whole week (price is broken down by day in registration portal)\nRegistration deadline: July 1; no late registrations are able to be accepted \nMonday Aug 4 – Kennywood (10:00 a.m. – 6:00 p.m.) $35\nTuesday Aug 5 – Austin Lake Park Swimming (10:00 a.m. – 1:00 p.m.) $30\nWednesday Aug 6 – Mission Day (Times TBD) $0\nThursday Aug 7 – Mystery Trip (10:00 a.m. – 5:00 p.m.) $50\nMystery Trip: A Veritas favorite\, the mystery trip is a complete surprise to kids. We will provide a packing list to students so they are prepared. Parents will receive a letter at drop off with details of exactly where we will be going. \nFor questions or more information\, contact Laura Ecklin. \n \nREGISTER
URL:https://westminster-church.org/event/charlie-registration-youth-ministry-summer-week-of-fun/
CATEGORIES:Featured Events,Youth Ministry
ATTACH;FMTTYPE=image/png:https://westminster-church.org/wp-content/uploads/2025/04/charlie.png
ORGANIZER;CN="Laura Ecklin":MAILTO:ecklin@westminster-church.org
END:VEVENT
END:VCALENDAR