BEGIN:VCALENDAR
VERSION:2.0
PRODID:-//Westminster Presbyterian Church - ECPv6.11.2//NONSGML v1.0//EN
CALSCALE:GREGORIAN
METHOD:PUBLISH
X-WR-CALNAME:Westminster Presbyterian Church
X-ORIGINAL-URL:https://westminster-church.org
X-WR-CALDESC:Events for Westminster Presbyterian Church
REFRESH-INTERVAL;VALUE=DURATION:PT1H
X-Robots-Tag:noindex
X-PUBLISHED-TTL:PT1H
BEGIN:VTIMEZONE
TZID:America/New_York
BEGIN:DAYLIGHT
TZOFFSETFROM:-0500
TZOFFSETTO:-0400
TZNAME:EDT
DTSTART:20250309T070000
END:DAYLIGHT
BEGIN:STANDARD
TZOFFSETFROM:-0400
TZOFFSETTO:-0500
TZNAME:EST
DTSTART:20251102T060000
END:STANDARD
END:VTIMEZONE
BEGIN:VEVENT
DTSTART;TZID=America/New_York:20251113T190000
DTEND;TZID=America/New_York:20251113T203000
DTSTAMP:20260424T142154
CREATED:20251013T175912Z
LAST-MODIFIED:20251013T175912Z
UID:10000137-1763060400-1763065800@westminster-church.org
SUMMARY:LIFT (Ladies in Fellowship Together)
DESCRIPTION:LIFT is a place where we gather for fellowship first. The role of the reading content is to guide us in our faith journeys and dialogues\, but it is not a requirement. The facilitator will always come prepared and have read\, but our group insights are what make LIFT what it is. As always\, perfect attendance and is not expected and there are no missing homework penalties. We hope to grow\, laugh\, and get to know you better this fall at LIFT. \nMeeting Dates: Every Thursday through November 13\, 2025\nMeeting Times: 7:00-8:30 pm\nMeeting Location: Memorial Parlor at Westminster\nReading Material: Wholehearted Faith by Rachel Held Evans
URL:https://westminster-church.org/event/lift-ladies-in-fellowship-together-2/2025-11-13/
LOCATION:Memorial Parlor
CATEGORIES:Adult Ministry,Featured Events
ATTACH;FMTTYPE=image/jpeg:https://westminster-church.org/wp-content/uploads/2025/05/IMG_0975.jpg
ORGANIZER;CN="Kristy Berrott":MAILTO:kristy@berrott.com
END:VEVENT
BEGIN:VEVENT
DTSTART;TZID=America/New_York:20251106T190000
DTEND;TZID=America/New_York:20251106T203000
DTSTAMP:20260424T142154
CREATED:20251013T175912Z
LAST-MODIFIED:20251013T175912Z
UID:10000136-1762455600-1762461000@westminster-church.org
SUMMARY:LIFT (Ladies in Fellowship Together)
DESCRIPTION:LIFT is a place where we gather for fellowship first. The role of the reading content is to guide us in our faith journeys and dialogues\, but it is not a requirement. The facilitator will always come prepared and have read\, but our group insights are what make LIFT what it is. As always\, perfect attendance and is not expected and there are no missing homework penalties. We hope to grow\, laugh\, and get to know you better this fall at LIFT. \nMeeting Dates: Every Thursday through November 13\, 2025\nMeeting Times: 7:00-8:30 pm\nMeeting Location: Memorial Parlor at Westminster\nReading Material: Wholehearted Faith by Rachel Held Evans
URL:https://westminster-church.org/event/lift-ladies-in-fellowship-together-2/2025-11-06/
LOCATION:Memorial Parlor
CATEGORIES:Adult Ministry,Featured Events
ATTACH;FMTTYPE=image/jpeg:https://westminster-church.org/wp-content/uploads/2025/05/IMG_0975.jpg
ORGANIZER;CN="Kristy Berrott":MAILTO:kristy@berrott.com
END:VEVENT
BEGIN:VEVENT
DTSTART;TZID=America/New_York:20251030T190000
DTEND;TZID=America/New_York:20251030T203000
DTSTAMP:20260424T142154
CREATED:20251013T175912Z
LAST-MODIFIED:20251013T175912Z
UID:10000135-1761850800-1761856200@westminster-church.org
SUMMARY:LIFT (Ladies in Fellowship Together)
DESCRIPTION:LIFT is a place where we gather for fellowship first. The role of the reading content is to guide us in our faith journeys and dialogues\, but it is not a requirement. The facilitator will always come prepared and have read\, but our group insights are what make LIFT what it is. As always\, perfect attendance and is not expected and there are no missing homework penalties. We hope to grow\, laugh\, and get to know you better this fall at LIFT. \nMeeting Dates: Every Thursday through November 13\, 2025\nMeeting Times: 7:00-8:30 pm\nMeeting Location: Memorial Parlor at Westminster\nReading Material: Wholehearted Faith by Rachel Held Evans
URL:https://westminster-church.org/event/lift-ladies-in-fellowship-together-2/2025-10-30/
LOCATION:Memorial Parlor
CATEGORIES:Adult Ministry,Featured Events
ATTACH;FMTTYPE=image/jpeg:https://westminster-church.org/wp-content/uploads/2025/05/IMG_0975.jpg
ORGANIZER;CN="Kristy Berrott":MAILTO:kristy@berrott.com
END:VEVENT
BEGIN:VEVENT
DTSTART;TZID=America/New_York:20251023T190000
DTEND;TZID=America/New_York:20251023T203000
DTSTAMP:20260424T142154
CREATED:20251013T175912Z
LAST-MODIFIED:20251013T175912Z
UID:10000133-1761246000-1761251400@westminster-church.org
SUMMARY:LIFT (Ladies in Fellowship Together)
DESCRIPTION:LIFT is a place where we gather for fellowship first. The role of the reading content is to guide us in our faith journeys and dialogues\, but it is not a requirement. The facilitator will always come prepared and have read\, but our group insights are what make LIFT what it is. As always\, perfect attendance and is not expected and there are no missing homework penalties. We hope to grow\, laugh\, and get to know you better this fall at LIFT. \nMeeting Dates: Every Thursday through November 13\, 2025\nMeeting Times: 7:00-8:30 pm\nMeeting Location: Memorial Parlor at Westminster\nReading Material: Wholehearted Faith by Rachel Held Evans
URL:https://westminster-church.org/event/lift-ladies-in-fellowship-together-2/2025-10-23/
LOCATION:Memorial Parlor
CATEGORIES:Adult Ministry,Featured Events
ATTACH;FMTTYPE=image/jpeg:https://westminster-church.org/wp-content/uploads/2025/05/IMG_0975.jpg
ORGANIZER;CN="Kristy Berrott":MAILTO:kristy@berrott.com
END:VEVENT
BEGIN:VEVENT
DTSTART;TZID=America/New_York:20251002T190000
DTEND;TZID=America/New_York:20251002T203000
DTSTAMP:20260424T142154
CREATED:20250505T130208Z
LAST-MODIFIED:20251001T170011Z
UID:10000131-1759431600-1759437000@westminster-church.org
SUMMARY:LIFT (Ladies in Fellowship Together)
DESCRIPTION:LIFT is a place where we gather for fellowship first. The role of the reading content is to guide us in our faith journeys and dialogues\, but it is not a requirement. The facilitator will always come prepared and have read\, but our group insights are what make LIFT what it is. As always\, perfect attendance and is not expected and there are no missing homework penalties. We hope to grow\, laugh\, and get to know you better this fall at LIFT. \nMeeting Dates: Every Thursday through November 13\, 2025\nMeeting Times: 7:00-8:30 pm\nMeeting Location: Memorial Parlor at Westminster\nReading Material: Wholehearted Faith by Rachel Held Evans
URL:https://westminster-church.org/event/lift-ladies-in-fellowship-together/2025-10-02/
LOCATION:Memorial Parlor
CATEGORIES:Adult Ministry,Featured Events
ATTACH;FMTTYPE=image/jpeg:https://westminster-church.org/wp-content/uploads/2025/05/IMG_0975.jpg
ORGANIZER;CN="Kristy Berrott":MAILTO:kristy@berrott.com
END:VEVENT
BEGIN:VEVENT
DTSTART;TZID=America/New_York:20250925T190000
DTEND;TZID=America/New_York:20250925T203000
DTSTAMP:20260424T142154
CREATED:20250505T130208Z
LAST-MODIFIED:20251001T170011Z
UID:10000130-1758826800-1758832200@westminster-church.org
SUMMARY:LIFT (Ladies in Fellowship Together)
DESCRIPTION:LIFT is a place where we gather for fellowship first. The role of the reading content is to guide us in our faith journeys and dialogues\, but it is not a requirement. The facilitator will always come prepared and have read\, but our group insights are what make LIFT what it is. As always\, perfect attendance and is not expected and there are no missing homework penalties. We hope to grow\, laugh\, and get to know you better this fall at LIFT. \nMeeting Dates: Every Thursday through November 13\, 2025\nMeeting Times: 7:00-8:30 pm\nMeeting Location: Memorial Parlor at Westminster\nReading Material: Wholehearted Faith by Rachel Held Evans
URL:https://westminster-church.org/event/lift-ladies-in-fellowship-together/2025-09-25/
LOCATION:Memorial Parlor
CATEGORIES:Adult Ministry,Featured Events
ATTACH;FMTTYPE=image/jpeg:https://westminster-church.org/wp-content/uploads/2025/05/IMG_0975.jpg
ORGANIZER;CN="Kristy Berrott":MAILTO:kristy@berrott.com
END:VEVENT
BEGIN:VEVENT
DTSTART;TZID=America/New_York:20250918T190000
DTEND;TZID=America/New_York:20250918T203000
DTSTAMP:20260424T142154
CREATED:20250505T130208Z
LAST-MODIFIED:20251001T170011Z
UID:10000101-1758222000-1758227400@westminster-church.org
SUMMARY:LIFT (Ladies in Fellowship Together)
DESCRIPTION:LIFT is a place where we gather for fellowship first. The role of the reading content is to guide us in our faith journeys and dialogues\, but it is not a requirement. The facilitator will always come prepared and have read\, but our group insights are what make LIFT what it is. As always\, perfect attendance and is not expected and there are no missing homework penalties. We hope to grow\, laugh\, and get to know you better this fall at LIFT. \nMeeting Dates: Every Thursday through November 13\, 2025\nMeeting Times: 7:00-8:30 pm\nMeeting Location: Memorial Parlor at Westminster\nReading Material: Wholehearted Faith by Rachel Held Evans
URL:https://westminster-church.org/event/lift-ladies-in-fellowship-together/2025-09-18/
LOCATION:Memorial Parlor
CATEGORIES:Adult Ministry,Featured Events
ATTACH;FMTTYPE=image/jpeg:https://westminster-church.org/wp-content/uploads/2025/05/IMG_0975.jpg
ORGANIZER;CN="Kristy Berrott":MAILTO:kristy@berrott.com
END:VEVENT
END:VCALENDAR