BEGIN:VCALENDAR
VERSION:2.0
PRODID:-//Westminster Presbyterian Church - ECPv6.11.2//NONSGML v1.0//EN
CALSCALE:GREGORIAN
METHOD:PUBLISH
X-WR-CALNAME:Westminster Presbyterian Church
X-ORIGINAL-URL:https://westminster-church.org
X-WR-CALDESC:Events for Westminster Presbyterian Church
REFRESH-INTERVAL;VALUE=DURATION:PT1H
X-Robots-Tag:noindex
X-PUBLISHED-TTL:PT1H
BEGIN:VTIMEZONE
TZID:America/New_York
BEGIN:DAYLIGHT
TZOFFSETFROM:-0500
TZOFFSETTO:-0400
TZNAME:EDT
DTSTART:20260308T070000
END:DAYLIGHT
BEGIN:STANDARD
TZOFFSETFROM:-0400
TZOFFSETTO:-0500
TZNAME:EST
DTSTART:20261101T060000
END:STANDARD
END:VTIMEZONE
BEGIN:VEVENT
DTSTART;TZID=America/New_York:20260426T030000
DTEND;TZID=America/New_York:20260426T170000
DTSTAMP:20260424T113547
CREATED:20260323T211236Z
LAST-MODIFIED:20260402T141414Z
UID:10000256-1777172400-1777222800@westminster-church.org
SUMMARY:Veritas Bingo Fundraiser
DESCRIPTION:Come on down and invite your friends to your favorite church bingo hall (Fellowship Hall) for what is sure to be a great night of bingo fun! All proceeds will go toward the Veritas youth summer mission trip. Cost per person is $20\, with a family max of $50. Contact Harrison Burgess with any questions. The youth thank you for your support! \nRegister Here \nIf you or a friend cannot make it\, but would still like to donate\, you can do so by visiting Give Now and or text WPCUSC to 73256 and select “Youth Mission Trip” from the fund dropdown menu.
URL:https://westminster-church.org/event/veritas-bingo-fundraiser/
LOCATION:Fellowship Hall
CATEGORIES:Featured Events,Youth Ministry
ATTACH;FMTTYPE=image/jpeg:https://westminster-church.org/wp-content/uploads/2026/03/Bingo-veritas-800x600-1.jpg
ORGANIZER;CN="Harrison Burgess":MAILTO:burgess@westminster-church.org
END:VEVENT
END:VCALENDAR