BEGIN:VCALENDAR
VERSION:2.0
PRODID:-//Westminster Presbyterian Church - ECPv6.11.2//NONSGML v1.0//EN
CALSCALE:GREGORIAN
METHOD:PUBLISH
X-ORIGINAL-URL:https://westminster-church.org
X-WR-CALDESC:Events for Westminster Presbyterian Church
REFRESH-INTERVAL;VALUE=DURATION:PT1H
X-Robots-Tag:noindex
X-PUBLISHED-TTL:PT1H
BEGIN:VTIMEZONE
TZID:America/New_York
BEGIN:DAYLIGHT
TZOFFSETFROM:-0500
TZOFFSETTO:-0400
TZNAME:EDT
DTSTART:20250309T070000
END:DAYLIGHT
BEGIN:STANDARD
TZOFFSETFROM:-0400
TZOFFSETTO:-0500
TZNAME:EST
DTSTART:20251102T060000
END:STANDARD
BEGIN:DAYLIGHT
TZOFFSETFROM:-0500
TZOFFSETTO:-0400
TZNAME:EDT
DTSTART:20260308T070000
END:DAYLIGHT
BEGIN:STANDARD
TZOFFSETFROM:-0400
TZOFFSETTO:-0500
TZNAME:EST
DTSTART:20261101T060000
END:STANDARD
END:VTIMEZONE
BEGIN:VEVENT
DTSTART;TZID=America/New_York:20260328T083000
DTEND;TZID=America/New_York:20260328T120000
DTSTAMP:20260424T143934
CREATED:20260224T195735Z
LAST-MODIFIED:20260224T200012Z
UID:10000252-1774686600-1774699200@westminster-church.org
SUMMARY:Volunteering at the Greater Pittsburgh Food Bank
DESCRIPTION:Westminster will be traveling to the Greater Pittsburgh food bank to serve in their market. We would love to have you as part of the group!  \nParticipants must be over 18 and registration is limited and required so sign up by March 18 using this link: https://pittsburghfoodbank.my.site.com/volunteer/volunteer-registration/?GID=a7qRo0000004FgPIAU \nTransportation will be provided: North Parking Lot at 7:30 a.m.
URL:https://westminster-church.org/event/volunteering-at-the-greater-pittsburgh-food-bank-2/
LOCATION:The Greater Pittsburgh Food Bank\, 1 N Linden Street\, Duquesne\, PA\, 15110\, United States
CATEGORIES:Featured Events,Mission and Fellowship
ATTACH;FMTTYPE=image/jpeg:https://westminster-church.org/wp-content/uploads/2026/02/pgh-Food-bank-800x600-1.jpg
ORGANIZER;CN="Emily Shubilla":MAILTO:shubilla@westminster-church.org
END:VEVENT
BEGIN:VEVENT
DTSTART;TZID=America/New_York:20260315T100000
DTEND;TZID=America/New_York:20260315T120000
DTSTAMP:20260424T143934
CREATED:20251103T165315Z
LAST-MODIFIED:20260309T165955Z
UID:10000205-1773568800-1773576000@westminster-church.org
SUMMARY:One Service Sunday & Congregational Meeting
DESCRIPTION:At this one service\, we will welcome to our pulpit the Pastor Nominating Committee’s candidate for our next Senior Pastor.  Following worship\, we will convene the Congregational Meeting called by Session to receive the PNC’s final report and the proposed terms of call for the candidate. Members present in the sanctuary will be invited to vote via paper ballot.  The service and meeting will be livestreamed\, but only those present will be eligible to vote.  \nAt the conclusion of the meeting\, we will move to Fellowship Hall for a reception and celebration.
URL:https://westminster-church.org/event/one-service-sunday-congregational-meeting/
LOCATION:Fellowship Hall
CATEGORIES:Churchwide,Featured Events
ATTACH;FMTTYPE=image/jpeg:https://westminster-church.org/wp-content/uploads/2025/11/One-Service-Sunday-800x600-1.jpg
ORGANIZER;CN="Emily Shubilla":MAILTO:shubilla@westminster-church.org
END:VEVENT
BEGIN:VEVENT
DTSTART;TZID=America/New_York:20260304T181500
DTEND;TZID=America/New_York:20260304T193000
DTSTAMP:20260424T143934
CREATED:20250916T145244Z
LAST-MODIFIED:20260209T175424Z
UID:10000128-1772648100-1772652600@westminster-church.org
SUMMARY:Inquirers' Gathering
DESCRIPTION:Your Place is Here!\n\nThey devoted themselves to the apostles’ teaching\, and to the fellowship\, to the breaking of bread and to prayer….They continued to meet together with glad and sincere hearts\, praising God and enjoying the favor of all people. And the Lord added to their number daily… – Acts 2:46-47 \n\nCome and hear about membership at Westminster. We will learn what it means to be a member and how to join. We can also answer any questions about Westminster and the Presbyterian Church. \nPlease email Emily Shubilla with any questions and RSVP on Realm by 2/25. \nRegister here: https://bit.ly/4kmXwJI
URL:https://westminster-church.org/event/inquirers-gathering/
LOCATION:Room 283 – Youth Classroom
CATEGORIES:Featured Events,Mission and Fellowship
ATTACH;FMTTYPE=image/png:https://westminster-church.org/wp-content/uploads/2025/09/Inquirers-logoHtag.png
ORGANIZER;CN="Emily Shubilla":MAILTO:shubilla@westminster-church.org
END:VEVENT
BEGIN:VEVENT
DTSTART;TZID=America/New_York:20260222T093000
DTEND;TZID=America/New_York:20260222T123000
DTSTAMP:20260424T143934
CREATED:20250403T160325Z
LAST-MODIFIED:20260201T180015Z
UID:10000087-1771752600-1771763400@westminster-church.org
SUMMARY:Help Assemble QuicKit Bags
DESCRIPTION:Come and make QuicKits with us! QuicKits are bags of essential items like deodorant\, shampoo\, a toothbrush\, and more put together in a reusable bag. We will fill them together and put them throughout the church to take and give to those in need. \nAfter each service.
URL:https://westminster-church.org/event/help-assemble-quickit-bags/
LOCATION:Room 274
CATEGORIES:Featured Events,Volunteers
ATTACH;FMTTYPE=image/jpeg:https://westminster-church.org/wp-content/uploads/2025/04/QuicKits.jpg
ORGANIZER;CN="Emily Shubilla":MAILTO:shubilla@westminster-church.org
END:VEVENT
BEGIN:VEVENT
DTSTART;TZID=America/New_York:20251119T093000
DTEND;TZID=America/New_York:20251119T113000
DTSTAMP:20260424T143934
CREATED:20251013T172723Z
LAST-MODIFIED:20251113T163838Z
UID:10000196-1763544600-1763551800@westminster-church.org
SUMMARY:Volunteer Bake and Make Event
DESCRIPTION:Join us to make sandwiches and meals to benefit StreetMOMs. Please register here: https://bit.ly/4oXrkxP or to Emily Shubilla at shubilla@westminster-church.org.
URL:https://westminster-church.org/event/volunteer-bake-and-make-event/
LOCATION:Fellowship Hall Kitchen
CATEGORIES:Featured Events,Mission and Fellowship,Volunteers
ATTACH;FMTTYPE=image/jpeg:https://westminster-church.org/wp-content/uploads/2025/10/volunteer-bake-and-make-event-800x600-1.jpg
ORGANIZER;CN="Emily Shubilla":MAILTO:shubilla@westminster-church.org
END:VEVENT
BEGIN:VEVENT
DTSTART;TZID=America/New_York:20251108T090000
DTEND;TZID=America/New_York:20251108T230000
DTSTAMP:20260424T143934
CREATED:20250922T181818Z
LAST-MODIFIED:20251002T140516Z
UID:10000192-1762592400-1762642800@westminster-church.org
SUMMARY:Volunteer Training: Emergency Response
DESCRIPTION:Safety and security are of the utmost importance at Westminster and to help prepare us for a variety of situations\, we will be hosting a Volunteer Training. Ushers\, receptionists\, and any other volunteer is welcome to come and hear an active shooter presentation from the USC police\, followed by some refreshments and time for discussion. Please RSVP on Realm or to Emily Shubilla at shubilla@westminster-church.org by Wednesday\, November 5. RSVP here
URL:https://westminster-church.org/event/volunteer-training-emergency-response/
LOCATION:Sanctuary
CATEGORIES:Community Engagement,Featured Events,Volunteers
ATTACH;FMTTYPE=image/jpeg:https://westminster-church.org/wp-content/uploads/2025/09/USC-Police-Station.jpg
ORGANIZER;CN="Emily Shubilla":MAILTO:shubilla@westminster-church.org
END:VEVENT
BEGIN:VEVENT
DTSTART;VALUE=DATE:20250907
DTEND;VALUE=DATE:20250908
DTSTAMP:20260424T143934
CREATED:20250812T140702Z
LAST-MODIFIED:20250828T140454Z
UID:10000121-1757203200-1757289599@westminster-church.org
SUMMARY:Celebration Sunday
DESCRIPTION:Sunday\, September 7 – After all three services in Fellowship Hall.\nJoin us to celebrate the beginning of a new season and time at the church! We will join together in Fellowship Hall after each worship service to walk through a beautiful photo gallery and listen to leaders of our church share about their ministries. There will be plenty of kid- friendly snacks and light bites to enjoy.
URL:https://westminster-church.org/event/celebration-sunday/
LOCATION:Fellowship Hall
CATEGORIES:Churchwide,Featured Events,Mission and Fellowship
ATTACH;FMTTYPE=image/jpeg:https://westminster-church.org/wp-content/uploads/2025/08/CelebrationSunday.jpg
ORGANIZER;CN="Emily Shubilla":MAILTO:shubilla@westminster-church.org
END:VEVENT
BEGIN:VEVENT
DTSTART;VALUE=DATE:20250901
DTEND;VALUE=DATE:20250902
DTSTAMP:20260424T143934
CREATED:20250804T154211Z
LAST-MODIFIED:20250805T180038Z
UID:10000118-1756684800-1756771199@westminster-church.org
SUMMARY:Nominating Committee - Call for Nominations
DESCRIPTION:There are exciting things happening every day in the life of the church and new leaders are needed to continue our good work. You are invited to share in the leadership as a: \n\nRuling Elder for a 3-year term who is responsible for leadership\, governance and worship\nDeacon for a 3- year term who embody acts of care\, compassion and service\nMember of the Nominating Committee who find others to serve as leaders\nMember of the Endowment Committee for a four- year term to help guide new ministries and invest in the future of our church\n\nOur congregation is blessed with an abundance of potential leaders so keep your nomination confidential to everyone to allow the committee to do its work with care and compassion for others. \nIf you would like to serve\, or if you know of members who have the gifts for these important roles\, please email:\nEmily Shubilla at shubilla@westminster-church.org by Monday\, September 1. \nFor more information\, go to https://westminster-church.org/event/nominating-committee-call-for-nominations/.
URL:https://westminster-church.org/event/nominating-committee-call-for-nominations/
CATEGORIES:Featured Events,News,Volunteers
ATTACH;FMTTYPE=image/jpeg:https://westminster-church.org/wp-content/uploads/2025/08/church-800x600-1.jpg
ORGANIZER;CN="Emily Shubilla":MAILTO:shubilla@westminster-church.org
END:VEVENT
BEGIN:VEVENT
DTSTART;VALUE=DATE:20250803
DTEND;VALUE=DATE:20250804
DTSTAMP:20260424T143934
CREATED:20250624T150330Z
LAST-MODIFIED:20250730T134937Z
UID:10000114-1754179200-1754265599@westminster-church.org
SUMMARY:Food To Go Packing
DESCRIPTION:We will be packing the last of the summer meals for our surrounding communities in need. With your generous food\, monetary\, and time donations\, we have made and distributed food around 2\,000 bags to six local locations. Our church is blessed to be able to provide for others struggling with food insecurity – thank you to all.  Any questions\, contact Emily Shubilla at shubilla@westminster-church.org. \nSunday\, August 3 after each worship service.
URL:https://westminster-church.org/event/food-to-go-packing/
LOCATION:Room 274
CATEGORIES:Featured Events,Mission and Fellowship,Volunteers
ATTACH;FMTTYPE=image/jpeg:https://westminster-church.org/wp-content/uploads/2025/06/Food-2-Go-packing_800x600.jpg
ORGANIZER;CN="Emily Shubilla":MAILTO:shubilla@westminster-church.org
END:VEVENT
BEGIN:VEVENT
DTSTART;TZID=America/New_York:20250727T110000
DTEND;TZID=America/New_York:20250727T130000
DTSTAMP:20260424T143934
CREATED:20250508T160734Z
LAST-MODIFIED:20250722T165508Z
UID:10000106-1753614000-1753621200@westminster-church.org
SUMMARY:Worship and Picnic in the Park
DESCRIPTION:Join us for a casual and relaxed outdoor service at Elm Grove Park in Peters Township. Bring a camping chair\, and plan to stay after for the church picnic that will be served at noon. \nClick here for directions. \nFor those with mobility concerns\, there are some accessible parking spots. The pavilion and paths are paved. Fully functioning bathrooms and electricity are also available. Ushers will be on-site to assist. Contact Emily Shubilla if you have further questions. \n*The 8:30 traditional service will be held in the Sanctuary and via livestream. \nIn the event of inclement weather\, worship and the picnic will move inside to Fellowship Hall. \n 
URL:https://westminster-church.org/event/worship-in-the-park/
CATEGORIES:Community Engagement,Featured Events,Worship
ATTACH;FMTTYPE=image/png:https://westminster-church.org/wp-content/uploads/2025/05/wpc-worship-park_830w.png
ORGANIZER;CN="Emily Shubilla":MAILTO:shubilla@westminster-church.org
END:VEVENT
BEGIN:VEVENT
DTSTART;TZID=America/New_York:20250713T150000
DTEND;TZID=America/New_York:20250713T163000
DTSTAMP:20260424T143934
CREATED:20250708T172541Z
LAST-MODIFIED:20250709T150229Z
UID:10000115-1752418800-1752424200@westminster-church.org
SUMMARY:Street MOMs Lunch Preparation
DESCRIPTION:In response to the recent flooding in Wheeling\, WV\, we are making sandwiches and baking cookies for lunches for those in need. Please come and bring a friend! Questions\, contact Emily Shubilla at shubilla@westminster-church.org.
URL:https://westminster-church.org/event/street-moms-lunch-preparation/
LOCATION:Fellowship Hall Kitchen
CATEGORIES:Featured Events,Volunteers
ATTACH;FMTTYPE=image/jpeg:https://westminster-church.org/wp-content/uploads/2025/07/streetmooms-packing.jpg
ORGANIZER;CN="Emily Shubilla":MAILTO:shubilla@westminster-church.org
END:VEVENT
BEGIN:VEVENT
DTSTART;VALUE=DATE:20250701
DTEND;VALUE=DATE:20250702
DTSTAMP:20260424T143934
CREATED:20250522T170734Z
LAST-MODIFIED:20250522T170753Z
UID:10000109-1751328000-1751414399@westminster-church.org
SUMMARY:Westminster Education Service Trust (WEST Fund)
DESCRIPTION:Westminster has always valued education and the desire to continue learning. The WEST fund was established in 1967 to provide support for post-secondary education expenses. All students need to apply by July 1. For questions\, and more information\, contact Emily Shubilla. \nRead more and apply here.
URL:https://westminster-church.org/event/westminster-education-service-trust-west-fund/
CATEGORIES:Churchwide,Featured Events
ATTACH;FMTTYPE=image/png:https://westminster-church.org/wp-content/uploads/2025/05/WestFund-logo_resized.png
ORGANIZER;CN="Emily Shubilla":MAILTO:shubilla@westminster-church.org
END:VEVENT
BEGIN:VEVENT
DTSTART;VALUE=DATE:20250605
DTEND;VALUE=DATE:20250730
DTSTAMP:20260424T143934
CREATED:20250605T185903Z
LAST-MODIFIED:20250730T135826Z
UID:10000112-1749081600-1753833599@westminster-church.org
SUMMARY:Food 2 Go
DESCRIPTION:Each summer many local kids are missing meals. We can provide nutritious meals for them\, so they do not need to go without. We will package the food together throughout the summer and distribute it to six local sites to be given to the community. \nOn Sundays and anytime the building is open\, donations can be put into the bins with the yellow signs in the Welcome Center\, WROC\, gallery\, and WECEP.\nDonations can also be made by purchasing items and having them shipped directly to us. Shop here: http://bit.ly/43tvSUU. \nPlease donate the following items: \n\nsingle serving\, individual cereal boxes\nPop Tarts\nFruit-by-the-Foot\nEasy Mac cups\ntuna pouches\napplesauce pouches
URL:https://westminster-church.org/event/food-2-go/
CATEGORIES:Community Engagement,Featured Events
ATTACH;FMTTYPE=image/jpeg:https://westminster-church.org/wp-content/uploads/2025/05/food-to-go-800x600-1.jpg
ORGANIZER;CN="Emily Shubilla":MAILTO:shubilla@westminster-church.org
END:VEVENT
BEGIN:VEVENT
DTSTART;TZID=America/New_York:20250530T180000
DTEND;TZID=America/New_York:20250530T200000
DTSTAMP:20260424T143934
CREATED:20250509T124430Z
LAST-MODIFIED:20250521T124359Z
UID:10000107-1748628000-1748635200@westminster-church.org
SUMMARY:Cupcake Baking for Meals on Wheels
DESCRIPTION:In celebration of our new oven\, we will bake and decorate cupcakes to give to our friends at Meals on Wheels @ the Crossroads. No need to bring anything as all materials will be provided. Bring your whole family and have fun with us!  \n \nRegister
URL:https://westminster-church.org/event/cupcake-baking-for-meals-on-wheels/
LOCATION:Fellowship Hall Kitchen
CATEGORIES:Community Engagement,Featured Events
ATTACH;FMTTYPE=image/jpeg:https://westminster-church.org/wp-content/uploads/2025/05/cupcakes.jpg
ORGANIZER;CN="Emily Shubilla":MAILTO:shubilla@westminster-church.org
END:VEVENT
END:VCALENDAR