BEGIN:VCALENDAR
VERSION:2.0
PRODID:-//Westminster Presbyterian Church - ECPv6.11.2//NONSGML v1.0//EN
CALSCALE:GREGORIAN
METHOD:PUBLISH
X-ORIGINAL-URL:https://westminster-church.org
X-WR-CALDESC:Events for Westminster Presbyterian Church
REFRESH-INTERVAL;VALUE=DURATION:PT1H
X-Robots-Tag:noindex
X-PUBLISHED-TTL:PT1H
BEGIN:VTIMEZONE
TZID:America/New_York
BEGIN:DAYLIGHT
TZOFFSETFROM:-0500
TZOFFSETTO:-0400
TZNAME:EDT
DTSTART:20260308T070000
END:DAYLIGHT
BEGIN:STANDARD
TZOFFSETFROM:-0400
TZOFFSETTO:-0500
TZNAME:EST
DTSTART:20261101T060000
END:STANDARD
END:VTIMEZONE
BEGIN:VEVENT
DTSTART;VALUE=DATE:20260712
DTEND;VALUE=DATE:20260718
DTSTAMP:20260424T172028
CREATED:20260120T195651Z
LAST-MODIFIED:20260209T172543Z
UID:10000246-1783814400-1784332799@westminster-church.org
SUMMARY:Veritas Summer Mission Trip
DESCRIPTION:Veritas will be heading to Charlotte\, NC to partner with CROSS Missions for a week of service and learning. This trip is open to students in 7th-12th grade. Cost is $200. Flexible payment options are available. Contact Harrison Burgess at burgess@westminster-church.org with questions.
URL:https://westminster-church.org/event/veritas-summer-mission-trip/
LOCATION:Charlotte\, North Carolina
CATEGORIES:Featured Events,Youth Ministry
ATTACH;FMTTYPE=image/jpeg:https://westminster-church.org/wp-content/uploads/2026/01/mission-trip2026-800x600-1.jpg
END:VEVENT
END:VCALENDAR