BEGIN:VCALENDAR
VERSION:2.0
PRODID:-//Westminster Presbyterian Church - ECPv6.11.2//NONSGML v1.0//EN
CALSCALE:GREGORIAN
METHOD:PUBLISH
X-WR-CALNAME:Westminster Presbyterian Church
X-ORIGINAL-URL:https://westminster-church.org
X-WR-CALDESC:Events for Westminster Presbyterian Church
REFRESH-INTERVAL;VALUE=DURATION:PT1H
X-Robots-Tag:noindex
X-PUBLISHED-TTL:PT1H
BEGIN:VTIMEZONE
TZID:America/New_York
BEGIN:DAYLIGHT
TZOFFSETFROM:-0500
TZOFFSETTO:-0400
TZNAME:EDT
DTSTART:20250309T070000
END:DAYLIGHT
BEGIN:STANDARD
TZOFFSETFROM:-0400
TZOFFSETTO:-0500
TZNAME:EST
DTSTART:20251102T060000
END:STANDARD
END:VTIMEZONE
BEGIN:VEVENT
DTSTART;TZID=America/New_York:20251118T190000
DTEND;TZID=America/New_York:20251118T200000
DTSTAMP:20260424T153906
CREATED:20250316T150359Z
LAST-MODIFIED:20251024T150344Z
UID:10000071-1763492400-1763496000@westminster-church.org
SUMMARY:WROC Talk: The Legacy of Freedom House Ambulance Service: A Lesson in Resiliency\, Perseverance and Determination
DESCRIPTION:Freedom House Ambulance Service was established in 1967 by Freedom House\, a Pittsburgh civil rights organization that offered training and assistance to unemployed Black men and women. This service was created for the people of the Hill District who were not receiving the care that was needed\, and because of this\, we now have the emergency services that we know of today across the U.S.   \nJoin us as John tells the extraordinary story of an unjustly forgotten group of Black men in Pittsburgh who became the first paramedics in America\, saving lives and changing the course of emergency medicine around the world. \nAbout the Speaker\nJohn Moon is a former Freedom House emergency medical technician and retired Assistant Chief of Pittsburgh Emergency Medical Service. John was raised in Pittsburgh’s Hill District and joined Freedom House\, America’s First Emergency Medical Service\, in 1972. He continued to work in emergency medicine for more than five decades and now works to preserve Freedom House legacy and mentor the next generation of emergency and community responders in Pittsburgh. \nRegister today.
URL:https://westminster-church.org/event/wroc-talk/
LOCATION:Fellowship Hall
CATEGORIES:Featured Events,WROC
ATTACH;FMTTYPE=image/jpeg:https://westminster-church.org/wp-content/uploads/2025/03/Freedom-House-800x600-1.jpg
END:VEVENT
BEGIN:VEVENT
DTSTART;TZID=America/New_York:20250325T043000
DTEND;TZID=America/New_York:20250325T180000
DTSTAMP:20260424T153906
CREATED:20250316T142047Z
LAST-MODIFIED:20250414T150554Z
UID:10000067-1742877000-1742925600@westminster-church.org
SUMMARY:Westminster Single Women's Group Dinner
DESCRIPTION:The Westminster Single Women’s Group is open to both members and non-members of Westminster Presbyterian Church. This lighthearted\, easy-going group is without a long-term commitment. The intention is to come when you can and participate in the activities you enjoy. \nJoin us for an evening of fun and fellowship at Mitchell’s Fish Market! Registration is recommended. Space is limited to 15. \nRead more and register here.
URL:https://westminster-church.org/event/westminster-single-womens-group-dinner/
LOCATION:Mitchell’s Fish Market – Galleria\, 1500 Washington Road\, Pittsburgh\, PA\, 15228\, United States
CATEGORIES:Adult Ministry,Featured Events,WROC
ATTACH;FMTTYPE=image/jpeg:https://westminster-church.org/wp-content/uploads/2025/03/EVENT_single-womens-group.jpg
END:VEVENT
END:VCALENDAR