BEGIN:VCALENDAR
VERSION:2.0
PRODID:-//Westminster Presbyterian Church - ECPv6.11.2//NONSGML v1.0//EN
CALSCALE:GREGORIAN
METHOD:PUBLISH
X-WR-CALNAME:Westminster Presbyterian Church
X-ORIGINAL-URL:https://westminster-church.org
X-WR-CALDESC:Events for Westminster Presbyterian Church
REFRESH-INTERVAL;VALUE=DURATION:PT1H
X-Robots-Tag:noindex
X-PUBLISHED-TTL:PT1H
BEGIN:VTIMEZONE
TZID:America/New_York
BEGIN:DAYLIGHT
TZOFFSETFROM:-0500
TZOFFSETTO:-0400
TZNAME:EDT
DTSTART:20260308T070000
END:DAYLIGHT
BEGIN:STANDARD
TZOFFSETFROM:-0400
TZOFFSETTO:-0500
TZNAME:EST
DTSTART:20261101T060000
END:STANDARD
END:VTIMEZONE
BEGIN:VEVENT
DTSTART;TZID=America/New_York:20260211T183000
DTEND;TZID=America/New_York:20260211T190000
DTSTAMP:20260425T225539
CREATED:20251030T150618Z
LAST-MODIFIED:20260203T183322Z
UID:10000201-1770834600-1770836400@westminster-church.org
SUMMARY:Worship in the Style of Taizé
DESCRIPTION:Join us for contemplative worship centered on the themes of healing and wholeness\, featuring candlelight\, songs\, scripture\, time for silent reflection with singing bowls\, prayer\, and laying on of hands for those who would like to participate. “Laying on of hands” is a practice in the Presbyterian tradition where we simply place a hand on a person’s shoulder as a representation of God’s Spirit resting on them. It is a powerful reminder of the prayers of the community and God’s presence with us as we cry out to God.
URL:https://westminster-church.org/event/worship-in-the-style-of-taize/
LOCATION:Galbreath Chapel
CATEGORIES:Featured Events,Music & Arts
ATTACH;FMTTYPE=image/jpeg:https://westminster-church.org/wp-content/uploads/2025/10/taize-800x600-1.jpg
END:VEVENT
END:VCALENDAR