BEGIN:VCALENDAR
VERSION:2.0
PRODID:-//Westminster Presbyterian Church - ECPv6.11.2//NONSGML v1.0//EN
CALSCALE:GREGORIAN
METHOD:PUBLISH
X-WR-CALNAME:Westminster Presbyterian Church
X-ORIGINAL-URL:https://westminster-church.org
X-WR-CALDESC:Events for Westminster Presbyterian Church
REFRESH-INTERVAL;VALUE=DURATION:PT1H
X-Robots-Tag:noindex
X-PUBLISHED-TTL:PT1H
BEGIN:VTIMEZONE
TZID:America/New_York
BEGIN:DAYLIGHT
TZOFFSETFROM:-0500
TZOFFSETTO:-0400
TZNAME:EDT
DTSTART:20250309T070000
END:DAYLIGHT
BEGIN:STANDARD
TZOFFSETFROM:-0400
TZOFFSETTO:-0500
TZNAME:EST
DTSTART:20251102T060000
END:STANDARD
BEGIN:DAYLIGHT
TZOFFSETFROM:-0500
TZOFFSETTO:-0400
TZNAME:EDT
DTSTART:20260308T070000
END:DAYLIGHT
BEGIN:STANDARD
TZOFFSETFROM:-0400
TZOFFSETTO:-0500
TZNAME:EST
DTSTART:20261101T060000
END:STANDARD
END:VTIMEZONE
BEGIN:VEVENT
DTSTART;VALUE=DATE:20260414
DTEND;VALUE=DATE:20260415
DTSTAMP:20260424T183026
CREATED:20260311T173338Z
LAST-MODIFIED:20260311T173809Z
UID:10000254-1776124800-1776211199@westminster-church.org
SUMMARY:Mission and Me
DESCRIPTION:The Mission and Fellowship Commission wants to hear about the missions and ministries that inspire you! If there is an organization that you love and are involved with\, please consider partnering with us by filling out a Mission Partner Form (PDF). For more details and assistance\, please contact Emily Shubilla at shubilla@westminster-church.org.
URL:https://westminster-church.org/event/mission-and-me/
CATEGORIES:Featured Events,Mission and Fellowship,Volunteers
ATTACH;FMTTYPE=image/jpeg:https://westminster-church.org/wp-content/uploads/2026/03/Missionsme-logo_800x600.jpg
END:VEVENT
BEGIN:VEVENT
DTSTART;TZID=America/New_York:20260328T083000
DTEND;TZID=America/New_York:20260328T120000
DTSTAMP:20260424T183026
CREATED:20260224T195735Z
LAST-MODIFIED:20260224T200012Z
UID:10000252-1774686600-1774699200@westminster-church.org
SUMMARY:Volunteering at the Greater Pittsburgh Food Bank
DESCRIPTION:Westminster will be traveling to the Greater Pittsburgh food bank to serve in their market. We would love to have you as part of the group!  \nParticipants must be over 18 and registration is limited and required so sign up by March 18 using this link: https://pittsburghfoodbank.my.site.com/volunteer/volunteer-registration/?GID=a7qRo0000004FgPIAU \nTransportation will be provided: North Parking Lot at 7:30 a.m.
URL:https://westminster-church.org/event/volunteering-at-the-greater-pittsburgh-food-bank-2/
LOCATION:The Greater Pittsburgh Food Bank\, 1 N Linden Street\, Duquesne\, PA\, 15110\, United States
CATEGORIES:Featured Events,Mission and Fellowship
ATTACH;FMTTYPE=image/jpeg:https://westminster-church.org/wp-content/uploads/2026/02/pgh-Food-bank-800x600-1.jpg
ORGANIZER;CN="Emily Shubilla":MAILTO:shubilla@westminster-church.org
END:VEVENT
BEGIN:VEVENT
DTSTART;TZID=America/New_York:20260304T181500
DTEND;TZID=America/New_York:20260304T193000
DTSTAMP:20260424T183026
CREATED:20250916T145244Z
LAST-MODIFIED:20260209T175424Z
UID:10000128-1772648100-1772652600@westminster-church.org
SUMMARY:Inquirers' Gathering
DESCRIPTION:Your Place is Here!\n\nThey devoted themselves to the apostles’ teaching\, and to the fellowship\, to the breaking of bread and to prayer….They continued to meet together with glad and sincere hearts\, praising God and enjoying the favor of all people. And the Lord added to their number daily… – Acts 2:46-47 \n\nCome and hear about membership at Westminster. We will learn what it means to be a member and how to join. We can also answer any questions about Westminster and the Presbyterian Church. \nPlease email Emily Shubilla with any questions and RSVP on Realm by 2/25. \nRegister here: https://bit.ly/4kmXwJI
URL:https://westminster-church.org/event/inquirers-gathering/
LOCATION:Room 283 – Youth Classroom
CATEGORIES:Featured Events,Mission and Fellowship
ATTACH;FMTTYPE=image/png:https://westminster-church.org/wp-content/uploads/2025/09/Inquirers-logoHtag.png
ORGANIZER;CN="Emily Shubilla":MAILTO:shubilla@westminster-church.org
END:VEVENT
BEGIN:VEVENT
DTSTART;TZID=America/New_York:20260228T090000
DTEND;TZID=America/New_York:20260228T120000
DTSTAMP:20260424T183026
CREATED:20250128T015450Z
LAST-MODIFIED:20260129T011348Z
UID:10000003-1772269200-1772280000@westminster-church.org
SUMMARY:Hunger Action Month: Rise Against Hunger
DESCRIPTION:Blessed are those who hunger and thirst for righteousness\, for they will be filled.\nMatthew 5:6. \n \nHunger Action Month\nHunger Action Month is a time for us to come together and support the various food insecurity programs of Westminster. Your donation helps fund events for StreetMOMs and Meals on Wheels at The Crossroads. It also supports international missions\, such as Haiti Rice and Beans\, as well as local mission partners\, including South Hills Interfaith Movement\, Living Stones\, and Food 2 Go. \nEach year\, at the end of February\, we celebrate the success of our campaign by volunteering with Rise Against Hunger to pack over 25\,000 meals for communities around the world. You\, along with your family\, friends\, neighbors\, and other community members\, are encouraged to join us and experience the joy of serving together through this meaningful mission project. \nFor more information\, contact Emily Shubilla. \n \nDONATE \nOr\, text “WPCUSC HUNGER” to 73256 to give using your mobile device. \n\n \nRise Against Hunger\nSign up today for a 90-minute shift and take part in this incredible\, hands-on mission opportunity benefiting Rise Against Hunger\, an international hunger relief nonprofit that coordinates the packaging and distribution of food and other aid to people in developing nations. \nWe will work together in an assembly-line format to package meal pouches\, combining rice\, soy\, dehydrated vegetables\, and a flavorful vitamin mix that includes 21 essential vitamins and minerals. \nVolunteers as young as 4 years old are encouraged to participate! We need 200 volunteers for this one-day event\, so invite your friends\, neighbors\, and coworkers. This will be a meaningful opportunity for fun\, fellowship\, and service for everyone. \nREGISTRATION\nPlease sign the liability waiver before registering. All volunteers are asked to arrive 15 minutes prior to their shift. \nSaturday\, February 28\n7:30 – 9:00 a.m. Set up\nRegister here: https://bit.ly/4jv3EiD \nSaturday\, February 28\n9:00 – 10:30 a.m.\nRegister here: https://bit.ly/4qzKXNg \nSaturday\, February 28\n10:45 a.m. – 12:15 p.m.\nRegister here: https://bit.ly/3NgaBbm
URL:https://westminster-church.org/event/rise-against-hunger/
CATEGORIES:Featured Events,Mission and Fellowship
ATTACH;FMTTYPE=image/jpeg:https://westminster-church.org/wp-content/uploads/2025/01/RAH_logo.jpg
END:VEVENT
BEGIN:VEVENT
DTSTART;TZID=America/New_York:20251119T093000
DTEND;TZID=America/New_York:20251119T113000
DTSTAMP:20260424T183026
CREATED:20251013T172723Z
LAST-MODIFIED:20251113T163838Z
UID:10000196-1763544600-1763551800@westminster-church.org
SUMMARY:Volunteer Bake and Make Event
DESCRIPTION:Join us to make sandwiches and meals to benefit StreetMOMs. Please register here: https://bit.ly/4oXrkxP or to Emily Shubilla at shubilla@westminster-church.org.
URL:https://westminster-church.org/event/volunteer-bake-and-make-event/
LOCATION:Fellowship Hall Kitchen
CATEGORIES:Featured Events,Mission and Fellowship,Volunteers
ATTACH;FMTTYPE=image/jpeg:https://westminster-church.org/wp-content/uploads/2025/10/volunteer-bake-and-make-event-800x600-1.jpg
ORGANIZER;CN="Emily Shubilla":MAILTO:shubilla@westminster-church.org
END:VEVENT
BEGIN:VEVENT
DTSTART;TZID=America/New_York:20250927T110000
DTEND;TZID=America/New_York:20250927T153000
DTSTAMP:20260424T183026
CREATED:20250902T154508Z
LAST-MODIFIED:20250902T154912Z
UID:10000126-1758970800-1758987000@westminster-church.org
SUMMARY:Haiti Gathering
DESCRIPTION:11:00 a.m. – 3:30 p.m. (lunch served at 12:00 p.m.)\nFellowship Hall \nAll are welcome to meet and greet Pastor Evens and a surprise guest!  \nThis will be an opportunity to meet and talk with Haiti friends\, new and old\, hear Pastor Evens discuss the status of the school and churches\, and address the current and future mission needs. We will also highlight opportunities to expand donations through Child Sponsorship and the “Pocket Change Project.”  \nPlease RSVP to 1haitichildsponsor@gmail.com or conley1973@verizon.net so we know how much food to order.
URL:https://westminster-church.org/event/haiti-gathering/
LOCATION:Fellowship Hall
CATEGORIES:Featured Events,Mission and Fellowship
ATTACH;FMTTYPE=image/jpeg:https://westminster-church.org/wp-content/uploads/2025/09/haiti-gathering-600x800-1.jpg
ORGANIZER;CN="Sandy Conley":MAILTO:conley1973@verizon.net
END:VEVENT
BEGIN:VEVENT
DTSTART;VALUE=DATE:20250907
DTEND;VALUE=DATE:20250908
DTSTAMP:20260424T183026
CREATED:20250812T140702Z
LAST-MODIFIED:20250828T140454Z
UID:10000121-1757203200-1757289599@westminster-church.org
SUMMARY:Celebration Sunday
DESCRIPTION:Sunday\, September 7 – After all three services in Fellowship Hall.\nJoin us to celebrate the beginning of a new season and time at the church! We will join together in Fellowship Hall after each worship service to walk through a beautiful photo gallery and listen to leaders of our church share about their ministries. There will be plenty of kid- friendly snacks and light bites to enjoy.
URL:https://westminster-church.org/event/celebration-sunday/
LOCATION:Fellowship Hall
CATEGORIES:Churchwide,Featured Events,Mission and Fellowship
ATTACH;FMTTYPE=image/jpeg:https://westminster-church.org/wp-content/uploads/2025/08/CelebrationSunday.jpg
ORGANIZER;CN="Emily Shubilla":MAILTO:shubilla@westminster-church.org
END:VEVENT
BEGIN:VEVENT
DTSTART;VALUE=DATE:20250803
DTEND;VALUE=DATE:20250804
DTSTAMP:20260424T183026
CREATED:20250624T150330Z
LAST-MODIFIED:20250730T134937Z
UID:10000114-1754179200-1754265599@westminster-church.org
SUMMARY:Food To Go Packing
DESCRIPTION:We will be packing the last of the summer meals for our surrounding communities in need. With your generous food\, monetary\, and time donations\, we have made and distributed food around 2\,000 bags to six local locations. Our church is blessed to be able to provide for others struggling with food insecurity – thank you to all.  Any questions\, contact Emily Shubilla at shubilla@westminster-church.org. \nSunday\, August 3 after each worship service.
URL:https://westminster-church.org/event/food-to-go-packing/
LOCATION:Room 274
CATEGORIES:Featured Events,Mission and Fellowship,Volunteers
ATTACH;FMTTYPE=image/jpeg:https://westminster-church.org/wp-content/uploads/2025/06/Food-2-Go-packing_800x600.jpg
ORGANIZER;CN="Emily Shubilla":MAILTO:shubilla@westminster-church.org
END:VEVENT
END:VCALENDAR