BEGIN:VCALENDAR
VERSION:2.0
PRODID:-//Westminster Presbyterian Church - ECPv6.11.2//NONSGML v1.0//EN
CALSCALE:GREGORIAN
METHOD:PUBLISH
X-WR-CALNAME:Westminster Presbyterian Church
X-ORIGINAL-URL:https://westminster-church.org
X-WR-CALDESC:Events for Westminster Presbyterian Church
REFRESH-INTERVAL;VALUE=DURATION:PT1H
X-Robots-Tag:noindex
X-PUBLISHED-TTL:PT1H
BEGIN:VTIMEZONE
TZID:America/New_York
BEGIN:DAYLIGHT
TZOFFSETFROM:-0500
TZOFFSETTO:-0400
TZNAME:EDT
DTSTART:20260308T070000
END:DAYLIGHT
BEGIN:STANDARD
TZOFFSETFROM:-0400
TZOFFSETTO:-0500
TZNAME:EST
DTSTART:20261101T060000
END:STANDARD
END:VTIMEZONE
BEGIN:VEVENT
DTSTART;TZID=America/New_York:20260414T130000
DTEND;TZID=America/New_York:20260619T140000
DTSTAMP:20260425T205250
CREATED:20250708T173720Z
LAST-MODIFIED:20260413T192424Z
UID:10000116-1776171600-1781877600@westminster-church.org
SUMMARY:Register Now for WROC Cardio Drumming/Power Beats
DESCRIPTION:CARDIO DRUMMING/Power Beats\n(Appropriate for all Fitness Levels) \nFridays\, May 1–June 19\n1:00-2:00 p.m.\nWhole-body exercise that involves drumming with two drumsticks on a large exercise ball. The class can be done sitting or standing. \nFor a complete list visit wroc.westminster-church.org \nDetails and registration at long@westminster-church.org.
URL:https://westminster-church.org/event/register-now-for-cardio-drumming-power-beats/
LOCATION:WROC
CATEGORIES:Featured Events,WROC
ATTACH;FMTTYPE=image/jpeg:https://westminster-church.org/wp-content/uploads/2025/07/cardio-drumming-power-beats-800x600-1.jpg
END:VEVENT
BEGIN:VEVENT
DTSTART;TZID=America/New_York:20260421T190000
DTEND;TZID=America/New_York:20260609T203000
DTSTAMP:20260425T205250
CREATED:20251119T155623Z
LAST-MODIFIED:20260420T164156Z
UID:10000132-1776798000-1781037000@westminster-church.org
SUMMARY:LIFT (Ladies in Fellowship Together)
DESCRIPTION:Join Westminster’s Ladies in Fellowship Together while we unpack Kate Bowler’s latest book. Honest and bracingly tender\, Joyful\, Anyway proves that experiencing joy does not depend on resolving everything that makes life difficult. You can’t always be happy\, but you can be joyful\, anyway. Come alongside a multi-generational group of women to explore and share joy in a place where attendance is never taken and reading is not required. For more information\, to be added to the LIFT email group and/or Facebook page\, please contact Kristy Berrott. \nMeeting Dates: Every Thursday starting April 30\, 2026\nMeeting Times: 7:00-8:30 pm\nMeeting Location: Memorial Parlor
URL:https://westminster-church.org/event/lift-ladies-in-fellowship-together-3/
LOCATION:Memorial Parlor
CATEGORIES:Adult Ministry,Featured Events
ATTACH;FMTTYPE=image/jpeg:https://westminster-church.org/wp-content/uploads/2025/11/joyful-anyway-800x600-1.jpg
ORGANIZER;CN="Kristy Berrott":MAILTO:kristy@berrott.com
END:VEVENT
BEGIN:VEVENT
DTSTART;TZID=America/New_York:20260517T080000
DTEND;TZID=America/New_York:20260517T130000
DTSTAMP:20260425T205250
CREATED:20250328T131754Z
LAST-MODIFIED:20260414T160021Z
UID:10000083-1779004800-1779022800@westminster-church.org
SUMMARY:Deacons' Blood Drive
DESCRIPTION:Westminster Deacons are hosting a blood drive! \nPlease preregister for your appointment by using sponsor code UG0010171\, to secure a time slot. Registration is easily done by calling Vitalant at 877-258-4825 or online at www.vitalant.org. \nIn order to donate\, you must: \n• Be 18 years or older (17 with parental consent)\n• Weigh at least 110 lbs.\n• Not have donated within the last 56 days\n• Be in good health \nMedications such as insulin\, aspirin\, and high blood pressure treatments do not prevent you from donating. If you have any medical questions\, please call Vitalant at 877-258-4825. \nFor those planning to donate\, please remember to eat a good breakfast and drink plenty of non-caffeinated beverages. There will be snacks and goodies available for all donors! \nThe Westminster Deacons thank you in advance for your support of this worthy mission.
URL:https://westminster-church.org/event/deacons-blood-drive/
LOCATION:Fellowship Hall
CATEGORIES:Adult Ministry,Featured Events
ATTACH;FMTTYPE=image/jpeg:https://westminster-church.org/wp-content/uploads/2025/03/istock_29453646_xxlarge.jpg
END:VEVENT
END:VCALENDAR